BEGIN:VCALENDAR
VERSION:2.0
PRODID:-//Newton Schools - ECPv6.15.17//NONSGML v1.0//EN
CALSCALE:GREGORIAN
METHOD:PUBLISH
X-ORIGINAL-URL:https://newtonschools.sch.qa
X-WR-CALDESC:Events for Newton Schools
REFRESH-INTERVAL;VALUE=DURATION:PT1H
X-Robots-Tag:noindex
X-PUBLISHED-TTL:PT1H
BEGIN:VTIMEZONE
TZID:Asia/Qatar
BEGIN:STANDARD
TZOFFSETFROM:+0300
TZOFFSETTO:+0300
TZNAME:+03
DTSTART:20240101T000000
END:STANDARD
END:VTIMEZONE
BEGIN:VEVENT
DTSTART;VALUE=DATE:20251015
DTEND;VALUE=DATE:20251016
DTSTAMP:20260422T150159
CREATED:20251102T084936Z
LAST-MODIFIED:20251102T103911Z
UID:14899-1760486400-1760572799@newtonschools.sch.qa
SUMMARY:Healthy Eating Week
DESCRIPTION:Our Primary students really enjoyed celebrating healthy eating week! It was fantastic to see so many delicious and nutritious snacks throughout the week. Thank you to our parents for helping us to promote healthy snacks throughout the year and for the efforts made during our healthy dress-up day.
URL:https://newtonschools.sch.qa/event/healthy-eating-week/
CATEGORIES:NBS - Muraikh
ATTACH;FMTTYPE=image/png:https://newtonschools.sch.qa/wp-content/uploads/2025/11/word_media_image14-1.png
END:VEVENT
BEGIN:VEVENT
DTSTART;VALUE=DATE:20251015
DTEND;VALUE=DATE:20251016
DTSTAMP:20260422T150159
CREATED:20251102T084145Z
LAST-MODIFIED:20251102T103951Z
UID:14781-1760486400-1760572799@newtonschools.sch.qa
SUMMARY:Philosophy For Children (P4C)
DESCRIPTION:We were delighted to welcome Nick Chandley from Dialogue Works (UK) and Mari Liebenberg\, a Newton Dialogue Works trainer\, to our school as part of our Philosophy for Children (P4C) accreditation process. We are proud to share that our campus has been awarded the Silver Level Accreditation\, with Gold now firmly in sight! This remarkable achievement reflects our ongoing commitment to fostering reflective thinking\, meaningful dialogue\, and a love of inquiry among our students. A heartfelt well done to all our teachers who were observed and commended for their excellent practice\, and to our entire school community for keeping Dr. Jabr’s vision for P4C alive — ensuring that philosophy truly takes its leap into life at our school.
URL:https://newtonschools.sch.qa/event/philosophy-for-children-p4c/
CATEGORIES:NBS - Muraikh
ATTACH;FMTTYPE=image/png:https://newtonschools.sch.qa/wp-content/uploads/2025/11/word_media_image13-1.png
END:VEVENT
BEGIN:VEVENT
DTSTART;VALUE=DATE:20251015
DTEND;VALUE=DATE:20251016
DTSTAMP:20260422T150159
CREATED:20251102T083705Z
LAST-MODIFIED:20251102T083705Z
UID:14776-1760486400-1760572799@newtonschools.sch.qa
SUMMARY:Year 10 IGCSE Parent Information Session
DESCRIPTION:NBS Muraikh hosted a Year 10 IGCSE Parent Information Session to help families gain a clearer understanding of the IGCSE programme and the academic journey ahead. The session provided detailed insights into the structure of the IGCSE curriculum\, including an explanation of the modular and linear pathways\, allowing parents and students to make informed decisions regarding subject selections and assessment options. During the session\, Heads of Departments shared key information about their respective subjects\, outlining course content\, assessment formats\, and the skills students will develop throughout the course. \nThe discussions also explored how subject choices can connect to future career pathways and post-16 progression options. The event aimed to ensure that parents are well-informed and equipped to guide their children through this crucial stage of secondary education. It marked an important step in helping students prepare for a successful IGCSE journey.
URL:https://newtonschools.sch.qa/event/year-10-igcse-parent-information-session/
CATEGORIES:NBS - Muraikh
ATTACH;FMTTYPE=image/jpeg:https://newtonschools.sch.qa/wp-content/uploads/2025/11/word_media_image8-1.jpg
END:VEVENT
BEGIN:VEVENT
DTSTART;VALUE=DATE:20251015
DTEND;VALUE=DATE:20251016
DTSTAMP:20260422T150159
CREATED:20251102T083004Z
LAST-MODIFIED:20251102T083114Z
UID:14771-1760486400-1760572799@newtonschools.sch.qa
SUMMARY:World Mental Health Day
DESCRIPTION:NBS Muraikh celebrated World Mental Health Day together with kindness\, creativity and lots of green! A huge thank you to everyone for joining in and especially for dressing up in green — the colour of mental health awareness. World Mental Health Day is all about raising awareness\, showing support and reminding ourselves that it’s okay to talk about how we feel. Let’s keep being kind\, checking in with our friends and looking after our minds every day!
URL:https://newtonschools.sch.qa/event/world-mental-health-day/
CATEGORIES:NBS - Muraikh
ATTACH;FMTTYPE=image/jpeg:https://newtonschools.sch.qa/wp-content/uploads/2025/11/word_media_image7-rotated.jpeg
END:VEVENT
BEGIN:VEVENT
DTSTART;VALUE=DATE:20251015
DTEND;VALUE=DATE:20251016
DTSTAMP:20260422T150159
CREATED:20251102T082735Z
LAST-MODIFIED:20251102T082735Z
UID:14767-1760486400-1760572799@newtonschools.sch.qa
SUMMARY:Charlie And The Chocolate Factory
DESCRIPTION:Year 4 have been busy wrapping up their writing unit of persuasive advertisements — creating and promoting their very own chocolate bars for Mr. Willy Wonka! To celebrate finishing our class novel\, Charlie and the Chocolate Factory\, the children enjoyed a fun dress-up day and took part in a range of chocolate-themed activities. A well-deserved treat for all their hard work — well done\, Year 4!
URL:https://newtonschools.sch.qa/event/charlie-and-the-chocolate-factory/
CATEGORIES:NBS - Muraikh
ATTACH;FMTTYPE=image/png:https://newtonschools.sch.qa/wp-content/uploads/2025/11/word_media_image1-1.png
END:VEVENT
END:VCALENDAR