BEGIN:VCALENDAR
VERSION:2.0
PRODID:-//Newton Schools - ECPv6.15.17//NONSGML v1.0//EN
CALSCALE:GREGORIAN
METHOD:PUBLISH
X-WR-CALNAME:Newton Schools
X-ORIGINAL-URL:https://newtonschools.sch.qa
X-WR-CALDESC:Events for Newton Schools
REFRESH-INTERVAL;VALUE=DURATION:PT1H
X-Robots-Tag:noindex
X-PUBLISHED-TTL:PT1H
BEGIN:VTIMEZONE
TZID:Asia/Qatar
BEGIN:STANDARD
TZOFFSETFROM:+0300
TZOFFSETTO:+0300
TZNAME:+03
DTSTART:20240101T000000
END:STANDARD
END:VTIMEZONE
BEGIN:VEVENT
DTSTART;VALUE=DATE:20251005
DTEND;VALUE=DATE:20251006
DTSTAMP:20260422T211557
CREATED:20251102T071332Z
LAST-MODIFIED:20251102T075051Z
UID:14722-1759622400-1759708799@newtonschools.sch.qa
SUMMARY:World Teachers’ Day at NIS Lagoon
DESCRIPTION:Our World Teachers’ Day celebration at Newton Lagoon was a wonderful opportunity to pause\, reflect\, and genuinely thank our teachers for all they do. It was a warm\, joyful occasion that reminded us why teaching is such a powerful calling. The generosity of our CEO made the event possible — a heartfelt gesture that showed real appreciation for the work our teachers do every single day. It was also a moment to recognise their patience\, care\, and creativity\, and to celebrate the people who bring learning to life and make Newton Lagoon the special place it is.
URL:https://newtonschools.sch.qa/event/world-teachers-day-at-nis-lagoon/
CATEGORIES:NIS - Lagoon
ATTACH;FMTTYPE=image/jpeg:https://newtonschools.sch.qa/wp-content/uploads/2025/11/word_media_image4.jpeg
END:VEVENT
END:VCALENDAR