BEGIN:VCALENDAR
VERSION:2.0
PRODID:-//Newton Schools - ECPv6.15.17//NONSGML v1.0//EN
CALSCALE:GREGORIAN
METHOD:PUBLISH
X-WR-CALNAME:Newton Schools
X-ORIGINAL-URL:https://newtonschools.sch.qa
X-WR-CALDESC:Events for Newton Schools
REFRESH-INTERVAL;VALUE=DURATION:PT1H
X-Robots-Tag:noindex
X-PUBLISHED-TTL:PT1H
BEGIN:VTIMEZONE
TZID:Asia/Qatar
BEGIN:STANDARD
TZOFFSETFROM:+0300
TZOFFSETTO:+0300
TZNAME:+03
DTSTART:20240101T000000
END:STANDARD
END:VTIMEZONE
BEGIN:VEVENT
DTSTART;VALUE=DATE:20251015
DTEND;VALUE=DATE:20251016
DTSTAMP:20260419T160430
CREATED:20251102T094005Z
LAST-MODIFIED:20251102T094005Z
UID:14840-1760486400-1760572799@newtonschools.sch.qa
SUMMARY:NIA Smash Achieves P4C Silver Accreditation
DESCRIPTION:During our recent P4C Accreditation Visit led by Nick\, NIA Smash was awarded the Silver Level Accreditation. Congratulations to our P4C Coordinator\, Ms. Donnelly\, for her excellent preparation and leadership throughout the visit. Thank you to all staff involved for their continued commitment to promoting critical thinking and dialogue in our classrooms.
URL:https://newtonschools.sch.qa/event/nia-smash-achieves-p4c-silver-accreditation/
CATEGORIES:NIA - Smash
ATTACH;FMTTYPE=image/png:https://newtonschools.sch.qa/wp-content/uploads/2025/11/word_media_image1-4.png
END:VEVENT
END:VCALENDAR