BEGIN:VCALENDAR
VERSION:2.0
PRODID:-//Newton Schools - ECPv6.15.17//NONSGML v1.0//EN
CALSCALE:GREGORIAN
METHOD:PUBLISH
X-WR-CALNAME:Newton Schools
X-ORIGINAL-URL:https://newtonschools.sch.qa
X-WR-CALDESC:Events for Newton Schools
REFRESH-INTERVAL;VALUE=DURATION:PT1H
X-Robots-Tag:noindex
X-PUBLISHED-TTL:PT1H
BEGIN:VTIMEZONE
TZID:Asia/Qatar
BEGIN:STANDARD
TZOFFSETFROM:+0300
TZOFFSETTO:+0300
TZNAME:+03
DTSTART:20240101T000000
END:STANDARD
END:VTIMEZONE
BEGIN:VEVENT
DTSTART;VALUE=DATE:20251005
DTEND;VALUE=DATE:20251006
DTSTAMP:20260424T122935
CREATED:20251102T072014Z
LAST-MODIFIED:20251102T072403Z
UID:14729-1759622400-1759708799@newtonschools.sch.qa
SUMMARY:A Cosy Day in EYFS
DESCRIPTION:Last Thursday\, as part of our ‘All About Me’ topic in EYFS\, pupils brought their favourite teddy bears to school to share with their friends and play with. Everyone arrived in their cosy pyjamas\, adding to the fun and excitement of the day. To end the day\, parents joined us for a lovely picnic before home time — a wonderful opportunity to strengthen our community links.
URL:https://newtonschools.sch.qa/event/a-cosy-day-in-eyfs/
CATEGORIES:NIS - Lagoon
ATTACH;FMTTYPE=image/png:https://newtonschools.sch.qa/wp-content/uploads/2025/11/word_media_image7.png
END:VEVENT
END:VCALENDAR